BEGIN:VCALENDAR
VERSION:2.0
PRODID:-//Seascape Golf Club - Aptos, CA - ECPv6.15.20//NONSGML v1.0//EN
CALSCALE:GREGORIAN
METHOD:PUBLISH
X-ORIGINAL-URL:https://seascapegc.com
X-WR-CALDESC:Events for Seascape Golf Club - Aptos, CA
REFRESH-INTERVAL;VALUE=DURATION:PT1H
X-Robots-Tag:noindex
X-PUBLISHED-TTL:PT1H
BEGIN:VTIMEZONE
TZID:UTC
BEGIN:STANDARD
TZOFFSETFROM:+0000
TZOFFSETTO:+0000
TZNAME:UTC
DTSTART:20250101T000000
END:STANDARD
END:VTIMEZONE
BEGIN:VEVENT
DTSTART;TZID=UTC:20260208T000000
DTEND;TZID=UTC:20260208T235959
DTSTAMP:20260419T144844
CREATED:20260204T163338Z
LAST-MODIFIED:20260204T163341Z
UID:10000105-1770508800-1770595199@seascapegc.com
SUMMARY:The Big Game Watch Party
DESCRIPTION:Sunday\, February 8\, 2026Doors Open at 2:00 PMKickoff at 3:20 PM Experience the ultimate Big Game watch party with the perfect blend of atmosphere and flavor! We’re turning up the volume in both the main clubhouse and the banquet room\, ensuring a front-row view on our eight TVs and massive 13-foot projection screen. Fuel your cheers with a special game-day happy hour menu featuring homemade favorites from Chef Zach and his team\, served alongside refreshments from our two full bars.  No reservations are required or taken\, so just grab your crew and head over!
URL:https://seascapegc.com/event/the-big-game-watch-party/
CATEGORIES:Events
END:VEVENT
BEGIN:VEVENT
DTSTART;TZID=UTC:20260216T000000
DTEND;TZID=UTC:20260216T235959
DTSTAMP:20260419T144844
CREATED:20260120T161641Z
LAST-MODIFIED:20260120T161642Z
UID:10000098-1771200000-1771286399@seascapegc.com
SUMMARY:Course Holiday: Presidents' Day
DESCRIPTION:
URL:https://seascapegc.com/event/course-holiday-presidents-day/
END:VEVENT
BEGIN:VEVENT
DTSTART;TZID=UTC:20260227T100000
DTEND;TZID=UTC:20260227T140000
DTSTAMP:20260419T144844
CREATED:20260203T172718Z
LAST-MODIFIED:20260203T172721Z
UID:10000104-1772186400-1772200800@seascapegc.com
SUMMARY:Callaway Fitting Event
DESCRIPTION:Appointment required \n\n\n\nReceive an exclusive 12% discount on all club purchases made during the event. \n\n\n\nUnlock your potential at our exclusive Callaway fitting event. Be among the first to experience the new Callaway Quantum Driver. Featuring the revolutionary Tri-Force face\, this driver is precision-engineered to deliver peak ball speed\, explosive distance\, and unrivaled spin consistency. \n\n\n\nElevate your game with technology designed to lead. \n\n\n\nCLICK HERE TO SCHEDULE YOUR FITTING
URL:https://seascapegc.com/event/callaway-fitting-event/
END:VEVENT
END:VCALENDAR